BEGIN:VCALENDAR
VERSION:2.0
PRODID:spatie/icalendar-generator
DESCRIPTION:Events from Village of Danvers
X-WR-CALDESC:Events from Village of Danvers
REFRESH-INTERVAL;VALUE=DURATION:PT1440M
X-PUBLISHED-TTL:PT1440M
BEGIN:VTIMEZONE
TZID:America/Chicago
BEGIN:STANDARD
DTSTART:20251102T020000Z
TZOFFSETFROM:-0500
TZOFFSETTO:-0600
END:STANDARD
BEGIN:DAYLIGHT
DTSTART:20260308T020000Z
TZOFFSETFROM:-0600
TZOFFSETTO:-0500
END:DAYLIGHT
BEGIN:STANDARD
DTSTART:20261101T020000Z
TZOFFSETFROM:-0500
TZOFFSETTO:-0600
END:STANDARD
END:VTIMEZONE
BEGIN:VTIMEZONE
TZID:UTC
BEGIN:STANDARD
DTSTART:20250729T202457Z
TZOFFSETFROM:+0000
TZOFFSETTO:+0000
END:STANDARD
END:VTIMEZONE
BEGIN:VEVENT
UID:67-10
DTSTAMP:20260425T202457Z
SUMMARY:Summer Reading
LOCATION:
ORGANIZER;CN=Danvers Admin:MAILTO:support@gnist.net
RRULE:FREQ=WEEKLY;UNTIL=20260627T000000Z
DTSTART;TZID=America/Chicago:20260605T100000
DTEND;TZID=America/Chicago:20260605T120000
X-ALT-DESC;FMTTYPE=TEXT/HTML:The Danvers Library is hosting a Summer Readin
 g Program At the Village Park Every Tuesday &amp;amp\; Friday in June 2026 &amp;nb
 sp\; 10 AM-11 AM
CATEGORIES:Summer Reading
URL;VALUE=URI:https://danversil.com/mc-events/summer-reading-2/?mc_id=67
METHOD:PUBLISH
END:VEVENT
END:VCALENDAR