BEGIN:VCALENDAR
VERSION:2.0
PRODID:spatie/icalendar-generator
DESCRIPTION:Events from Village of Danvers
X-WR-CALDESC:Events from Village of Danvers
REFRESH-INTERVAL;VALUE=DURATION:PT1440M
X-PUBLISHED-TTL:PT1440M
BEGIN:VTIMEZONE
TZID:America/Chicago
BEGIN:DAYLIGHT
DTSTART:20250309T020000Z
TZOFFSETFROM:-0600
TZOFFSETTO:-0500
END:DAYLIGHT
BEGIN:STANDARD
DTSTART:20251102T020000Z
TZOFFSETFROM:-0500
TZOFFSETTO:-0600
END:STANDARD
BEGIN:DAYLIGHT
DTSTART:20260308T020000Z
TZOFFSETFROM:-0600
TZOFFSETTO:-0500
END:DAYLIGHT
END:VTIMEZONE
BEGIN:VTIMEZONE
TZID:UTC
BEGIN:STANDARD
DTSTART:20250723T143544Z
TZOFFSETFROM:+0000
TZOFFSETTO:+0000
END:STANDARD
END:VTIMEZONE
BEGIN:VEVENT
UID:4-4
DTSTAMP:20260419T143544Z
SUMMARY:Town Meeting
LOCATION:
ORGANIZER;CN=Danvers Admin:MAILTO:support@gnist.net
DTSTART;TZID=America/Chicago:20251203T190000
DTEND;TZID=America/Chicago:20251203T200000
X-ALT-DESC;FMTTYPE=TEXT/HTML:The Village President and Trustees invite all 
 residents to participate. Please Join Us.
CATEGORIES:Town Meeting
URL;VALUE=URI:https://danversil.com/mc-events/town-meeting/
METHOD:PUBLISH
END:VEVENT
END:VCALENDAR