BEGIN:VCALENDAR
VERSION:2.0
PRODID:spatie/icalendar-generator
DESCRIPTION:Events from Village of Danvers
X-WR-CALDESC:Events from Village of Danvers
REFRESH-INTERVAL;VALUE=DURATION:PT1440M
X-PUBLISHED-TTL:PT1440M
BEGIN:VTIMEZONE
TZID:America/Chicago
BEGIN:STANDARD
DTSTART:20251102T020000Z
TZOFFSETFROM:-0500
TZOFFSETTO:-0600
END:STANDARD
BEGIN:DAYLIGHT
DTSTART:20260308T020000Z
TZOFFSETFROM:-0600
TZOFFSETTO:-0500
END:DAYLIGHT
BEGIN:STANDARD
DTSTART:20261101T020000Z
TZOFFSETFROM:-0500
TZOFFSETTO:-0600
END:STANDARD
END:VTIMEZONE
BEGIN:VTIMEZONE
TZID:UTC
BEGIN:STANDARD
DTSTART:20250729T152504Z
TZOFFSETFROM:+0000
TZOFFSETTO:+0000
END:STANDARD
END:VTIMEZONE
BEGIN:VEVENT
UID:48-12
DTSTAMP:20260425T152504Z
SUMMARY:McLean County - Mobile Health Clinic
LOCATION:
ORGANIZER;CN=Danvers Admin:MAILTO:support@gnist.net
DTSTART;TZID=America/Chicago:20260513T100000
DTEND;TZID=America/Chicago:20260513T140000
X-ALT-DESC;FMTTYPE=TEXT/HTML:<p>FREE A1C checks\, blood pressure checks\,
  BMI assessments\, and car seat safety checks (time permitting)</p>\n
CATEGORIES:Special
URL;VALUE=URI:https://danversil.com/mc-events/mclean-county-mobile-health-c
 linic/
METHOD:PUBLISH
END:VEVENT
END:VCALENDAR