BEGIN:VCALENDAR
VERSION:2.0
PRODID:spatie/icalendar-generator
DESCRIPTION:Events from Village of Danvers
X-WR-CALDESC:Events from Village of Danvers
REFRESH-INTERVAL;VALUE=DURATION:PT1440M
X-PUBLISHED-TTL:PT1440M
BEGIN:VTIMEZONE
TZID:America/Chicago
BEGIN:DAYLIGHT
DTSTART:20250309T020000Z
TZOFFSETFROM:-0600
TZOFFSETTO:-0500
END:DAYLIGHT
BEGIN:STANDARD
DTSTART:20251102T020000Z
TZOFFSETFROM:-0500
TZOFFSETTO:-0600
END:STANDARD
BEGIN:DAYLIGHT
DTSTART:20260308T020000Z
TZOFFSETFROM:-0600
TZOFFSETTO:-0500
END:DAYLIGHT
END:VTIMEZONE
BEGIN:VTIMEZONE
TZID:UTC
BEGIN:STANDARD
DTSTART:20250723T144521Z
TZOFFSETFROM:+0000
TZOFFSETTO:+0000
END:STANDARD
END:VTIMEZONE
BEGIN:VEVENT
UID:37-8
DTSTAMP:20260419T144521Z
SUMMARY:Village Hall Closed
LOCATION:
ORGANIZER;CN=Danvers Admin:MAILTO:support@gnist.net
DTSTART;TZID=America/Chicago;VALUE=DATE:20251127
DTEND;TZID=America/Chicago;VALUE=DATE:20251129
X-ALT-DESC;FMTTYPE=TEXT/HTML:In Observance of Thanksgiving: The Village Hal
 l will be Closed November 27th &amp;amp\; November 28th 2025. &amp;nbsp\; We will 
 reopen Monday\, December 1st\, 2025. &amp;nbsp\; Thank You!
CATEGORIES:Holiday
URL;VALUE=URI:https://danversil.com/mc-events/village-hall-closed/
METHOD:PUBLISH
END:VEVENT
END:VCALENDAR