BEGIN:VCALENDAR
VERSION:2.0
PRODID:spatie/icalendar-generator
DESCRIPTION:Events from Village of Danvers
X-WR-CALDESC:Events from Village of Danvers
REFRESH-INTERVAL;VALUE=DURATION:PT1440M
X-PUBLISHED-TTL:PT1440M
BEGIN:VTIMEZONE
TZID:America/Chicago
BEGIN:STANDARD
DTSTART:20251102T020000Z
TZOFFSETFROM:-0500
TZOFFSETTO:-0600
END:STANDARD
BEGIN:DAYLIGHT
DTSTART:20260308T020000Z
TZOFFSETFROM:-0600
TZOFFSETTO:-0500
END:DAYLIGHT
BEGIN:STANDARD
DTSTART:20261101T020000Z
TZOFFSETFROM:-0500
TZOFFSETTO:-0600
END:STANDARD
END:VTIMEZONE
BEGIN:VTIMEZONE
TZID:UTC
BEGIN:STANDARD
DTSTART:20250730T013338Z
TZOFFSETFROM:+0000
TZOFFSETTO:+0000
END:STANDARD
END:VTIMEZONE
BEGIN:VEVENT
UID:16-5
DTSTAMP:20260426T013338Z
SUMMARY:Danvers Community Band
LOCATION:
ORGANIZER;CN=Danvers Admin:MAILTO:support@gnist.net
RRULE:FREQ=WEEKLY;UNTIL=20260726T000000Z
DTSTART;TZID=America/Chicago;VALUE=DATE:20260726
DTEND;TZID=America/Chicago;VALUE=DATE:20260727
X-ALT-DESC;FMTTYPE=TEXT/HTML:At the beginning of the 1900s\, many little to
 wns had a community band to give entertainment to the residents\, Danvers 
 Community Band has been preforming since at least 1905. They perform on Su
 nday nights at 7 p.m. in Danvers Park. Five concerts each season\, occurri
 ng every Sunday in July and sometimes the last Sunday in&amp;hellip\;
CATEGORIES:Community Band
URL;VALUE=URI:https://danversil.com/mc-events/danvers-community-band/?mc_id
 =16
METHOD:PUBLISH
END:VEVENT
END:VCALENDAR